BEGIN:VCALENDAR
VERSION:2.0
PRODID:-//oepbv.at//www.vbv.or.at
CALSCALE:GREGORIAN
BEGIN:VEVENT
DTSTART:20260627T110000
DTEND:20260627T170000
LOCATION:BSV Break Feldkirch\, Königshofstrasse 57\, 6800 Feldkirch\, Österreich
DTSTAMP:20260422T171912
SUMMARY:BSV Break - VM 9er Ball
URL;VALUE=URI:https://www.vbv.or.at
DESCRIPTION:ÖPBV Turniertermin
UID:20260422T171912-20260627T110000-20260627T170000
END:VEVENT
END:VCALENDAR